BEGIN:VCALENDAR
VERSION:2.0
PRODID:-//Powder Ridge Minnesota - ECPv6.15.20//NONSGML v1.0//EN
CALSCALE:GREGORIAN
METHOD:PUBLISH
X-ORIGINAL-URL:https://powderridge.com
X-WR-CALDESC:Events for Powder Ridge Minnesota
REFRESH-INTERVAL;VALUE=DURATION:PT1H
X-Robots-Tag:noindex
X-PUBLISHED-TTL:PT1H
BEGIN:VTIMEZONE
TZID:America/Chicago
BEGIN:DAYLIGHT
TZOFFSETFROM:-0600
TZOFFSETTO:-0500
TZNAME:CDT
DTSTART:20240310T080000
END:DAYLIGHT
BEGIN:STANDARD
TZOFFSETFROM:-0500
TZOFFSETTO:-0600
TZNAME:CST
DTSTART:20241103T070000
END:STANDARD
BEGIN:DAYLIGHT
TZOFFSETFROM:-0600
TZOFFSETTO:-0500
TZNAME:CDT
DTSTART:20250309T080000
END:DAYLIGHT
BEGIN:STANDARD
TZOFFSETFROM:-0500
TZOFFSETTO:-0600
TZNAME:CST
DTSTART:20251102T070000
END:STANDARD
BEGIN:DAYLIGHT
TZOFFSETFROM:-0600
TZOFFSETTO:-0500
TZNAME:CDT
DTSTART:20260308T080000
END:DAYLIGHT
BEGIN:STANDARD
TZOFFSETFROM:-0500
TZOFFSETTO:-0600
TZNAME:CST
DTSTART:20261101T070000
END:STANDARD
END:VTIMEZONE
BEGIN:VEVENT
DTSTART;VALUE=DATE:20251224
DTEND;VALUE=DATE:20251225
DTSTAMP:20260423T102144
CREATED:20251209T224812Z
LAST-MODIFIED:20251209T224812Z
UID:15066-1766534400-1766620799@powderridge.com
SUMMARY:Day 12 - 12 Days Of Ridgemas
DESCRIPTION:On the twelfth day of Ridgemas\, 12 ornaments to find—each with a prize\, so get on the grind!\nSanta visits from 10PM-12PM and hidden around Powder Ridge are 12 ornaments of special value.  Find one and claim your prize!
URL:https://powderridge.com/event/day-12-12-days-of-ridgemas/
END:VEVENT
BEGIN:VEVENT
DTSTART;TZID=America/Chicago:20251224T093000
DTEND;TZID=America/Chicago:20251224T140000
DTSTAMP:20260423T102144
CREATED:20251014T165751Z
LAST-MODIFIED:20251014T190421Z
UID:14995-1766568600-1766584800@powderridge.com
SUMMARY:Ridgemas
DESCRIPTION:Christmas Eve at Powder Ridge – Open for skiing and snowboarding from 9:30AM to 2PM \nSanta will be visiting Powder Ridge in the chalet from 10AM to 12PM. \nTwelve ornaments will be hidden around Powder Ridge with special value.  Find one and claim your prize!
URL:https://powderridge.com/event/ridgemas/
ATTACH;FMTTYPE=image/jpeg:https://powderridge.com/wp-content/uploads/2018/12/25551987_1539724346103107_5060635492982045781_n.jpg
END:VEVENT
END:VCALENDAR