BEGIN:VCALENDAR
VERSION:2.0
PRODID:-//Powder Ridge Minnesota - ECPv6.15.20//NONSGML v1.0//EN
CALSCALE:GREGORIAN
METHOD:PUBLISH
X-WR-CALNAME:Powder Ridge Minnesota
X-ORIGINAL-URL:https://powderridge.com
X-WR-CALDESC:Events for Powder Ridge Minnesota
REFRESH-INTERVAL;VALUE=DURATION:PT1H
X-Robots-Tag:noindex
X-PUBLISHED-TTL:PT1H
BEGIN:VTIMEZONE
TZID:America/Chicago
BEGIN:DAYLIGHT
TZOFFSETFROM:-0600
TZOFFSETTO:-0500
TZNAME:CDT
DTSTART:20240310T080000
END:DAYLIGHT
BEGIN:STANDARD
TZOFFSETFROM:-0500
TZOFFSETTO:-0600
TZNAME:CST
DTSTART:20241103T070000
END:STANDARD
BEGIN:DAYLIGHT
TZOFFSETFROM:-0600
TZOFFSETTO:-0500
TZNAME:CDT
DTSTART:20250309T080000
END:DAYLIGHT
BEGIN:STANDARD
TZOFFSETFROM:-0500
TZOFFSETTO:-0600
TZNAME:CST
DTSTART:20251102T070000
END:STANDARD
BEGIN:DAYLIGHT
TZOFFSETFROM:-0600
TZOFFSETTO:-0500
TZNAME:CDT
DTSTART:20260308T080000
END:DAYLIGHT
BEGIN:STANDARD
TZOFFSETFROM:-0500
TZOFFSETTO:-0600
TZNAME:CST
DTSTART:20261101T070000
END:STANDARD
END:VTIMEZONE
BEGIN:VEVENT
DTSTART;VALUE=DATE:20251130
DTEND;VALUE=DATE:20251201
DTSTAMP:20260421T044453
CREATED:20251013T150524Z
LAST-MODIFIED:20251107T200611Z
UID:14973-1764460800-1764547199@powderridge.com
SUMMARY:Snow Savings Sunday
DESCRIPTION:Only Available Online on Sunday\, November 30th! \nFor 24 hours only\, enjoy 15% off sitewide when you use promo code THANKSGIVING at checkout.  This deal is online only and won’t last long – shop all your favorites! \nDiscount only valid online.  Does not apply to gift cards.
URL:https://powderridge.com/event/snow-savings-sunday/
ATTACH;FMTTYPE=image/jpeg:https://powderridge.com/wp-content/uploads/2025/10/PR-Website.jpg
END:VEVENT
END:VCALENDAR