BEGIN:VCALENDAR
VERSION:2.0
PRODID:-//Powder Ridge Minnesota - ECPv6.15.20//NONSGML v1.0//EN
CALSCALE:GREGORIAN
METHOD:PUBLISH
X-ORIGINAL-URL:https://powderridge.com
X-WR-CALDESC:Events for Powder Ridge Minnesota
REFRESH-INTERVAL;VALUE=DURATION:PT1H
X-Robots-Tag:noindex
X-PUBLISHED-TTL:PT1H
BEGIN:VTIMEZONE
TZID:America/Chicago
BEGIN:DAYLIGHT
TZOFFSETFROM:-0600
TZOFFSETTO:-0500
TZNAME:CDT
DTSTART:20240310T080000
END:DAYLIGHT
BEGIN:STANDARD
TZOFFSETFROM:-0500
TZOFFSETTO:-0600
TZNAME:CST
DTSTART:20241103T070000
END:STANDARD
BEGIN:DAYLIGHT
TZOFFSETFROM:-0600
TZOFFSETTO:-0500
TZNAME:CDT
DTSTART:20250309T080000
END:DAYLIGHT
BEGIN:STANDARD
TZOFFSETFROM:-0500
TZOFFSETTO:-0600
TZNAME:CST
DTSTART:20251102T070000
END:STANDARD
BEGIN:DAYLIGHT
TZOFFSETFROM:-0600
TZOFFSETTO:-0500
TZNAME:CDT
DTSTART:20260308T080000
END:DAYLIGHT
BEGIN:STANDARD
TZOFFSETFROM:-0500
TZOFFSETTO:-0600
TZNAME:CST
DTSTART:20261101T070000
END:STANDARD
END:VTIMEZONE
BEGIN:VEVENT
DTSTART;VALUE=DATE:20251128
DTEND;VALUE=DATE:20251129
DTSTAMP:20260421T044509
CREATED:20250917T195151Z
LAST-MODIFIED:20250917T195404Z
UID:14934-1764288000-1764374399@powderridge.com
SUMMARY:Black Friday Online Sale
DESCRIPTION:Only Available on Friday\, November 28th \nPurchase $100 gift card\, and get a FREE $25 gift card\nPurchase $50 gift card\, and get a FREE $10 gift card \nPowder Ridge gift cards can be used for anything at Powder Ridge.  Gift Cards do not expire. 
URL:https://powderridge.com/event/black-friday-online-sale/
LOCATION:Powder Ridge\, 15015 93rd Ave\, Kimball\, MN\, 55353\, United States
ATTACH;FMTTYPE=image/jpeg:https://powderridge.com/wp-content/uploads/2025/09/SPP-1-212-scaled.jpg
END:VEVENT
END:VCALENDAR